BEGIN:VCALENDAR
VERSION:2.0
PRODID:-//Transit Supervisors Organization Local 106 - ECPv6.15.16//NONSGML v1.0//EN
CALSCALE:GREGORIAN
METHOD:PUBLISH
X-ORIGINAL-URL:https://twu106.ss.prometheuslabor.com
X-WR-CALDESC:Events for Transit Supervisors Organization Local 106
REFRESH-INTERVAL;VALUE=DURATION:PT1H
X-Robots-Tag:noindex
X-PUBLISHED-TTL:PT1H
BEGIN:VTIMEZONE
TZID:America/New_York
BEGIN:DAYLIGHT
TZOFFSETFROM:-0500
TZOFFSETTO:-0400
TZNAME:EDT
DTSTART:20230312T070000
END:DAYLIGHT
BEGIN:STANDARD
TZOFFSETFROM:-0400
TZOFFSETTO:-0500
TZNAME:EST
DTSTART:20231105T060000
END:STANDARD
BEGIN:DAYLIGHT
TZOFFSETFROM:-0500
TZOFFSETTO:-0400
TZNAME:EDT
DTSTART:20240310T070000
END:DAYLIGHT
BEGIN:STANDARD
TZOFFSETFROM:-0400
TZOFFSETTO:-0500
TZNAME:EST
DTSTART:20241103T060000
END:STANDARD
BEGIN:DAYLIGHT
TZOFFSETFROM:-0500
TZOFFSETTO:-0400
TZNAME:EDT
DTSTART:20250309T070000
END:DAYLIGHT
BEGIN:STANDARD
TZOFFSETFROM:-0400
TZOFFSETTO:-0500
TZNAME:EST
DTSTART:20251102T060000
END:STANDARD
END:VTIMEZONE
BEGIN:VEVENT
DTSTART;TZID=America/New_York:20241119T110000
DTEND;TZID=America/New_York:20241119T163000
DTSTAMP:20260422T011501
CREATED:20241011T151025Z
LAST-MODIFIED:20241011T151404Z
UID:7284-1732014000-1732033800@twu106.ss.prometheuslabor.com
SUMMARY:General Membership Meeting
DESCRIPTION:Please make every effort to attend these important meetings.
URL:https://twu106.ss.prometheuslabor.com/event-calender/general-membership-meeting-2/
LOCATION:Holy Cross Greek Orthodox Church\, 11-05 150th Street\, Whitestone\, 11357\, United States
END:VEVENT
END:VCALENDAR