BEGIN:VCALENDAR
VERSION:2.0
PRODID:-//Transit Supervisors Organization Local 106 - ECPv6.15.16//NONSGML v1.0//EN
CALSCALE:GREGORIAN
METHOD:PUBLISH
X-WR-CALNAME:Transit Supervisors Organization Local 106
X-ORIGINAL-URL:https://twu106.ss.prometheuslabor.com
X-WR-CALDESC:Events for Transit Supervisors Organization Local 106
REFRESH-INTERVAL;VALUE=DURATION:PT1H
X-Robots-Tag:noindex
X-PUBLISHED-TTL:PT1H
BEGIN:VTIMEZONE
TZID:America/New_York
BEGIN:DAYLIGHT
TZOFFSETFROM:-0500
TZOFFSETTO:-0400
TZNAME:EDT
DTSTART:20210314T070000
END:DAYLIGHT
BEGIN:STANDARD
TZOFFSETFROM:-0400
TZOFFSETTO:-0500
TZNAME:EST
DTSTART:20211107T060000
END:STANDARD
BEGIN:DAYLIGHT
TZOFFSETFROM:-0500
TZOFFSETTO:-0400
TZNAME:EDT
DTSTART:20220313T070000
END:DAYLIGHT
BEGIN:STANDARD
TZOFFSETFROM:-0400
TZOFFSETTO:-0500
TZNAME:EST
DTSTART:20221106T060000
END:STANDARD
BEGIN:DAYLIGHT
TZOFFSETFROM:-0500
TZOFFSETTO:-0400
TZNAME:EDT
DTSTART:20230312T070000
END:DAYLIGHT
BEGIN:STANDARD
TZOFFSETFROM:-0400
TZOFFSETTO:-0500
TZNAME:EST
DTSTART:20231105T060000
END:STANDARD
END:VTIMEZONE
BEGIN:VEVENT
DTSTART;TZID=America/New_York:20221215T110000
DTEND;TZID=America/New_York:20221215T190000
DTSTAMP:20260423T092837
CREATED:20221110T122925Z
LAST-MODIFIED:20221110T123012Z
UID:5063-1671102000-1671130800@twu106.ss.prometheuslabor.com
SUMMARY: 6th Annual General Membership & Retiree
DESCRIPTION:Holiday Party\n\n\n\n\n\nAll members and retirees in good standing can stop by anytime between 11A & 7P and join us at the Holiday Party.
URL:https://twu106.ss.prometheuslabor.com/event-calender/6th-annual-general-membership-retiree/
LOCATION:Holy Cross Greek Orthodox Church\, 11-05 150 Street\, Whitestone\, New York\, 11357
END:VEVENT
END:VCALENDAR